BEGIN:VCALENDAR
VERSION:2.0
PRODID:-//Alona - ECPv6.15.20//NONSGML v1.0//EN
CALSCALE:GREGORIAN
METHOD:PUBLISH
X-ORIGINAL-URL:https://alona.nl
X-WR-CALDESC:Evenementen voor Alona
REFRESH-INTERVAL;VALUE=DURATION:PT1H
X-Robots-Tag:noindex
X-PUBLISHED-TTL:PT1H
BEGIN:VTIMEZONE
TZID:Europe/Amsterdam
BEGIN:DAYLIGHT
TZOFFSETFROM:+0100
TZOFFSETTO:+0200
TZNAME:CEST
DTSTART:20250330T010000
END:DAYLIGHT
BEGIN:STANDARD
TZOFFSETFROM:+0200
TZOFFSETTO:+0100
TZNAME:CET
DTSTART:20251026T010000
END:STANDARD
BEGIN:DAYLIGHT
TZOFFSETFROM:+0100
TZOFFSETTO:+0200
TZNAME:CEST
DTSTART:20260329T010000
END:DAYLIGHT
BEGIN:STANDARD
TZOFFSETFROM:+0200
TZOFFSETTO:+0100
TZNAME:CET
DTSTART:20261025T010000
END:STANDARD
BEGIN:DAYLIGHT
TZOFFSETFROM:+0100
TZOFFSETTO:+0200
TZNAME:CEST
DTSTART:20270328T010000
END:DAYLIGHT
BEGIN:STANDARD
TZOFFSETFROM:+0200
TZOFFSETTO:+0100
TZNAME:CET
DTSTART:20271031T010000
END:STANDARD
END:VTIMEZONE
BEGIN:VEVENT
DTSTART;TZID=Europe/Amsterdam:20260423T100000
DTEND;TZID=Europe/Amsterdam:20260426T170000
DTSTAMP:20260423T131634
CREATED:20240829T140233Z
LAST-MODIFIED:20260114T124816Z
UID:2820-1776938400-1777222800@alona.nl
SUMMARY:update voor Centered Riding instructeurs
DESCRIPTION:Ontwikkel je als Centered Riding instructeur en houdt je licentie geldig. \nLocatie Stal Unique te Breda.  Er zijn paarden te huur € 30\,– per inzet/dag. \nData 23 tot en met 26 April 2026 \nMargreet Bouwmeester\, Level 4 advanced instructor\, Alexander techniek teacher en Franklin method educator. \nKosten. € 695\,– incl. BTW \n\n\n                \n                        \n                            Inschrijven trainingen\n                             \n                        \n                        EmailDit veld is bedoeld voor validatiedoeleinden en moet niet worden gewijzigd.Naam(Vereist)\n                            \n                            \n                                                    \n                                                    Voornaam\n                                                \n                            \n                            \n                                                    \n                                                    Achternaam\n                                                \n                            \n                        Adres(Vereist)    \n                    \n                         \n                                        \n                                        Straat + huisnummer\n                                    \n                                    \n                                    Plaats\n                                 \n                                    \n                                    Postcode\n                                \n                    \n                E-mailadres(Vereist)\n                            \n                        Telefoon(Vereist)workshop of opleiding(Vereist)\n			\n					\n					Alona Equine Bodywork / Cranio Sacral ( Mei/juni  2026)\n			\n			\n					\n					Centered Riding update (23\,24\,25\,26 April 2026)\n			\n			\n					\n					Update voor Centered Riding instructeurs (15\, 16\, 17\, 18 sept 2026)\n			\n			\n					\n					Centered Riding open clinic (4 en 5 juli 2026)\n			Huur paard(Vereist)\n			\n					\n					Ja\n			\n			\n					\n					Nee\n			\n			\n					\n					Anders\n			Instemming(Vereist) Ik ga akkoord met de algemene voorwaarden\n          \n            \n            \n            \n            \n            \n            \n            \n            \n            \n            \n            \n            \n            \n        \n                        \n                        \n\n 
URL:https://alona.nl/event/update-voor-centered-riding-instructeurs-te-oosteind/
LOCATION:Stal Unique te Breda\, Rijsbergsebaan 9a\, Breda\, Netherlands
ORGANIZER;CN="Margreet Bouwmeester%2C Level 4 Clinician & Alexander Techniek Teacher":MAILTO:info@alona.nl
END:VEVENT
END:VCALENDAR