BEGIN:VCALENDAR
VERSION:2.0
PRODID:-//Alona - ECPv6.15.20//NONSGML v1.0//EN
CALSCALE:GREGORIAN
METHOD:PUBLISH
X-WR-CALNAME:Alona
X-ORIGINAL-URL:https://alona.nl
X-WR-CALDESC:Evenementen voor Alona
REFRESH-INTERVAL;VALUE=DURATION:PT1H
X-Robots-Tag:noindex
X-PUBLISHED-TTL:PT1H
BEGIN:VTIMEZONE
TZID:Europe/Amsterdam
BEGIN:DAYLIGHT
TZOFFSETFROM:+0100
TZOFFSETTO:+0200
TZNAME:CEST
DTSTART:20250330T010000
END:DAYLIGHT
BEGIN:STANDARD
TZOFFSETFROM:+0200
TZOFFSETTO:+0100
TZNAME:CET
DTSTART:20251026T010000
END:STANDARD
BEGIN:DAYLIGHT
TZOFFSETFROM:+0100
TZOFFSETTO:+0200
TZNAME:CEST
DTSTART:20260329T010000
END:DAYLIGHT
BEGIN:STANDARD
TZOFFSETFROM:+0200
TZOFFSETTO:+0100
TZNAME:CET
DTSTART:20261025T010000
END:STANDARD
BEGIN:DAYLIGHT
TZOFFSETFROM:+0100
TZOFFSETTO:+0200
TZNAME:CEST
DTSTART:20270328T010000
END:DAYLIGHT
BEGIN:STANDARD
TZOFFSETFROM:+0200
TZOFFSETTO:+0100
TZNAME:CET
DTSTART:20271031T010000
END:STANDARD
END:VTIMEZONE
BEGIN:VEVENT
DTSTART;TZID=Europe/Amsterdam:20260704T100000
DTEND;TZID=Europe/Amsterdam:20260705T170000
DTSTAMP:20260424T005154
CREATED:20251013T161645Z
LAST-MODIFIED:20260114T124756Z
UID:2985-1783159200-1783270800@alona.nl
SUMMARY:Centered Riding open clinic
DESCRIPTION:Heb jij ambitie om de beste ruiter te worden voor je paard.  Schrijf je dan in voor deze advanced houding en zit clinic. \nJe leert een dynamische balans\, samenwerken met je paard vanuit comparable parts\, een betere coördinatie\, een beter lichaamsgevoel\, subtiele hulpen\, rechtrichten vanuit de botstructuren en biomechanica en science of motion. \nEn deelname is een van de voorwaarden om aan de Centered Riding instructeurstraining mee te kunnen doen. \nDatum zaterdag 4 en zondag 5 juli 2026 \nLokatie Brabant\, Sint Oedenrode\,  Hoeve Klein Haneveld \nDit is tevens een B&B en verhuur Glamping tenten. \nEr is een mogelijkheid om een paard te huren. \nvoor nadere informatie\,  kosten en inschrijving voor de Centered Riding Open clinic:  contact   hoevekleinhaneveld@outlook.com \nContact \n \n  \n  \n 
URL:https://alona.nl/event/2026-centered-riding-open-clinic/
LOCATION:Hoeve Klein Haneveld\, Liempdseweg 39\, Sint Oedenrode\, Noord Brabant\, 5492 SM\, Netherlands
ORGANIZER;CN="Marieke Klein Haneveld Dirks":MAILTO:hoevekleinhaneveld@outlook.com
END:VEVENT
BEGIN:VEVENT
DTSTART;TZID=Europe/Amsterdam:20260502T100000
DTEND;TZID=Europe/Amsterdam:20260502T163000
DTSTAMP:20260424T005154
CREATED:20250515T183421Z
LAST-MODIFIED:20260408T133833Z
UID:2930-1777716000-1777739400@alona.nl
SUMMARY:Alona Equine Bodywork vijf daagse training
DESCRIPTION:Deze vijf daagse training leer je diverse handgrepen uit de Equine Cranio Sacrale Therapie. Een intensieve practische training die 1 x per week of 2 weken wordt gegeven.  Onderdeel is de techniek van de Wilsson/Meagher sportmassage alsook het gebruik van Moxa voor fascia release. \nBij aanwezigheid op alle vijf dagen ontvang je een certificaat Alona Equine Bodywork. \nData: zaterdag  2\, 16\, 23 en 30 mei en 6 juni 2026\, Tijd van 10 tot 16.00/16.30 uur \nLocatie: Manege paarden pensioenfonds te Essen. \nKosten incl. lesmateriaal en gelamineerde kaarten € 775\,– (excl. 21% BTW) \n\n\n                \n                        \n                            Inschrijven trainingen\n                             \n                        \n                        LinkedInDit veld is bedoeld voor validatiedoeleinden en moet niet worden gewijzigd.Naam(Vereist)\n                            \n                            \n                                                    \n                                                    Voornaam\n                                                \n                            \n                            \n                                                    \n                                                    Achternaam\n                                                \n                            \n                        Adres(Vereist)    \n                    \n                         \n                                        \n                                        Straat + huisnummer\n                                    \n                                    \n                                    Plaats\n                                 \n                                    \n                                    Postcode\n                                \n                    \n                E-mailadres(Vereist)\n                            \n                        Telefoon(Vereist)workshop of opleiding(Vereist)\n			\n					\n					Alona Equine Bodywork / Cranio Sacral ( Mei/juni  2026)\n			\n			\n					\n					Centered Riding update (23\,24\,25\,26 April 2026)\n			\n			\n					\n					Update voor Centered Riding instructeurs (15\, 16\, 17\, 18 sept 2026)\n			\n			\n					\n					Centered Riding open clinic (4 en 5 juli 2026)\n			Huur paard(Vereist)\n			\n					\n					Ja\n			\n			\n					\n					Nee\n			\n			\n					\n					Anders\n			Instemming(Vereist) Ik ga akkoord met de algemene voorwaarden\n          \n            \n            \n            \n            \n            \n            \n            \n            \n            \n            \n            \n            \n            \n        \n                        \n                        \n\n 
URL:https://alona.nl/event/alona-equine-bodywork-vijf-daagse-training/
LOCATION:Manegepaardenpensioenfonds\, Bergsebaan 30\, Essen\, België
ORGANIZER;CN="Margreet Bouwmeester%2C Acupuncturist%2C TCM kruiden%2C Equine Cranio Sacral":MAILTO:info@alona.nl
END:VEVENT
BEGIN:VEVENT
DTSTART;TZID=Europe/Amsterdam:20260423T100000
DTEND;TZID=Europe/Amsterdam:20260426T170000
DTSTAMP:20260424T005154
CREATED:20240829T140233Z
LAST-MODIFIED:20260114T124816Z
UID:2820-1776938400-1777222800@alona.nl
SUMMARY:update voor Centered Riding instructeurs
DESCRIPTION:Ontwikkel je als Centered Riding instructeur en houdt je licentie geldig. \nLocatie Stal Unique te Breda.  Er zijn paarden te huur € 30\,– per inzet/dag. \nData 23 tot en met 26 April 2026 \nMargreet Bouwmeester\, Level 4 advanced instructor\, Alexander techniek teacher en Franklin method educator. \nKosten. € 695\,– incl. BTW \n\n                \n                        \n                            Inschrijven trainingen\n                             \n                        \n                        FacebookDit veld is bedoeld voor validatiedoeleinden en moet niet worden gewijzigd.Naam(Vereist)\n                            \n                            \n                                                    \n                                                    Voornaam\n                                                \n                            \n                            \n                                                    \n                                                    Achternaam\n                                                \n                            \n                        Adres(Vereist)    \n                    \n                         \n                                        \n                                        Straat + huisnummer\n                                    \n                                    \n                                    Plaats\n                                 \n                                    \n                                    Postcode\n                                \n                    \n                E-mailadres(Vereist)\n                            \n                        Telefoon(Vereist)workshop of opleiding(Vereist)\n			\n					\n					Alona Equine Bodywork / Cranio Sacral ( Mei/juni  2026)\n			\n			\n					\n					Centered Riding update (23\,24\,25\,26 April 2026)\n			\n			\n					\n					Update voor Centered Riding instructeurs (15\, 16\, 17\, 18 sept 2026)\n			\n			\n					\n					Centered Riding open clinic (4 en 5 juli 2026)\n			Huur paard(Vereist)\n			\n					\n					Ja\n			\n			\n					\n					Nee\n			\n			\n					\n					Anders\n			Instemming(Vereist) Ik ga akkoord met de algemene voorwaarden\n          \n            \n            \n            \n            \n            \n            \n            \n            \n            \n            \n            \n            \n            \n        \n                        \n                        \n\n 
URL:https://alona.nl/event/update-voor-centered-riding-instructeurs-te-oosteind/
LOCATION:Stal Unique te Breda\, Rijsbergsebaan 9a\, Breda\, Netherlands
ORGANIZER;CN="Margreet Bouwmeester%2C Level 4 Clinician & Alexander Techniek Teacher":MAILTO:info@alona.nl
END:VEVENT
END:VCALENDAR